BEGIN:VCALENDAR
VERSION:2.0
PRODID:-//bonasoft.pl//NONSGML Kreatywna książka w edukacji: Książka tunelowa//EN
CALSCALE:GREGORIAN
METHOD:PUBLISH
BEGIN:VEVENT
UID:20260424T154001-1820256946uid
DISTAMP:20260424T154001
DTSTART:20260520T073000Z
DTEND:20260520T103000Z
LOCATION:Pedagogiczna Biblioteka Wojewódzka im. KEN w Warszawie. Filia w Grodzisku Mazowieckim, ul. 11-go listopada 48 (IV piętro)
SUMMARY:Kreatywna książka w edukacji: Książka tunelowa
DESCRIPTION:warsztaty metodyczne dla nauczycieli
END:VEVENT
END:VCALENDAR
