BEGIN:VCALENDAR
VERSION:2.0
PRODID:-//bonasoft.pl//NONSGML „Wtorki literackie”//EN
CALSCALE:GREGORIAN
METHOD:PUBLISH
BEGIN:VEVENT
UID:20260423T144533-65652404uid
DISTAMP:20260423T144533
DTSTART:20260519T150000Z
DTEND:20260519T160000Z
LOCATION:Pedagogiczna Biblioteka Wojewódzka im. KEN w Warszawie. Filia w Grodzisku Mazowieckim, ul. 11-go listopada 48 (IV piętro)
SUMMARY:„Wtorki literackie”
DESCRIPTION:"Wtorki literackie" w Bibliotece Pedagogicznej w Grodzisku Mazowieckim
END:VEVENT
END:VCALENDAR
