BEGIN:VCALENDAR
VERSION:2.0
PRODID:-//bonasoft.pl//NONSGML Jak książki mogą wzmacniać poczucie własnej wartości – o biblioterapeutycznej mocy czytania//EN
CALSCALE:GREGORIAN
METHOD:PUBLISH
BEGIN:VEVENT
UID:20260422T145119-1631833747uid
DISTAMP:20260422T145119
DTSTART:20260513T090000Z
DTEND:20260513T120000Z
LOCATION:Pedagogiczna Biblioteka Wojewódzka im. KEN w Warszawie. Filia w Grodzisku Mazowieckim, ul. 11-go listopada 48 (IV piętro)
SUMMARY:Jak książki mogą wzmacniać poczucie własnej wartości – o biblioterapeutycznej mocy czytania
DESCRIPTION:warsztaty metodyczne dla nauczycieli
END:VEVENT
END:VCALENDAR
